BEGIN:VCALENDAR
VERSION:2.0
PRODID:-//Prem Niru Jagruti - ECPv6.0.12//NONSGML v1.0//EN
CALSCALE:GREGORIAN
METHOD:PUBLISH
X-ORIGINAL-URL:https://awakeningoflove.net
X-WR-CALDESC:Prem Niru Jagruti のイベント
REFRESH-INTERVAL;VALUE=DURATION:PT1H
X-Robots-Tag:noindex
X-PUBLISHED-TTL:PT1H
BEGIN:VTIMEZONE
TZID:Asia/Tokyo
BEGIN:STANDARD
TZOFFSETFROM:+0900
TZOFFSETTO:+0900
TZNAME:JST
DTSTART:20230101T000000
END:STANDARD
END:VTIMEZONE
BEGIN:VEVENT
DTSTART;TZID=Asia/Tokyo:20230506T080000
DTEND;TZID=Asia/Tokyo:20230508T170000
DTSTAMP:20260424T204503
CREATED:20230420T074644Z
LAST-MODIFIED:20230420T130031Z
UID:705-1683360000-1683565200@awakeningoflove.net
SUMMARY:テストリトリート　イベントタイトルイベントタイトル
DESCRIPTION:リトリートの開催概要がここに入ります。ああああああああああああああああああああああああああああああああああああああああああ。 \nあああああああああああああああああああ。\nあああああああああああああああああああああああああ。 \nああああああああああああああああああああああああああああああああああああああああああああああああああああああああああああああああああああああああ。
URL:https://awakeningoflove.net/event/test_event3/
LOCATION:テスト会場名\, 会場住所
CATEGORIES:リトリート
ATTACH;FMTTYPE=image/jpeg:https://awakeningoflove.net/wp2/wp-content/uploads/2023/04/test_event3.jpg
ORGANIZER;CN="%E4%B8%BB%E5%82%AC%E8%80%85%E5%90%8D":MAILTO:xxx@awakeningoflove.net
END:VEVENT
BEGIN:VEVENT
DTSTART;TZID=Asia/Tokyo:20230505T100000
DTEND;TZID=Asia/Tokyo:20230505T170000
DTSTAMP:20260424T204503
CREATED:20230420T073930Z
LAST-MODIFIED:20230420T125209Z
UID:702-1683280800-1683306000@awakeningoflove.net
SUMMARY:テストセラピーグループ　イベントタイトルイベントタイトル
DESCRIPTION:イベント開催概要　　ああああああああああああああああああああああああああああああああああああああああああああああああああああああああああ \nああああああああああああああああああああ \nあああああああああああああああああああああああ \nああああああ
URL:https://awakeningoflove.net/event/test_event2/
LOCATION:テスト会場名\, 会場住所
CATEGORIES:セラピーグループ
ATTACH;FMTTYPE=image/jpeg:https://awakeningoflove.net/wp2/wp-content/uploads/2023/04/test_event2.jpg
ORGANIZER;CN="%E4%B8%BB%E5%82%AC%E8%80%85%E5%90%8D":MAILTO:xxx@awakeningoflove.net
END:VEVENT
BEGIN:VEVENT
DTSTART;TZID=Asia/Tokyo:20230427T080000
DTEND;TZID=Asia/Tokyo:20230427T170000
DTSTAMP:20260424T204503
CREATED:20230420T072117Z
LAST-MODIFIED:20230420T124749Z
UID:696-1682582400-1682614800@awakeningoflove.net
SUMMARY:テスト瞑想会　イベントタイトルイベントタイトル
DESCRIPTION:イベント開催概要ここに入りますここに入りますテキストテキスト \nテキストテキストテキストテキストテキストテキストテキストテキストテキストテキスト \n  \nテキストテキストテキストテキストテキストテキストテキストテキスト \nテキストテキスト
URL:https://awakeningoflove.net/event/test_event1/
LOCATION:テスト会場名\, 会場住所
CATEGORIES:瞑想会
ATTACH;FMTTYPE=image/jpeg:https://awakeningoflove.net/wp2/wp-content/uploads/2023/04/test_event.jpg
ORGANIZER;CN="%E4%B8%BB%E5%82%AC%E8%80%85%E5%90%8D":MAILTO:xxx@awakeningoflove.net
END:VEVENT
END:VCALENDAR